BEGIN:VCALENDAR
VERSION:2.0
PRODID:-//MIRIAM KAHLE COACHING - ECPv6.15.20//NONSGML v1.0//EN
CALSCALE:GREGORIAN
METHOD:PUBLISH
X-ORIGINAL-URL:https://www.miriam-kahle.de
X-WR-CALDESC:Veranstaltungen für MIRIAM KAHLE COACHING
REFRESH-INTERVAL;VALUE=DURATION:PT1H
X-Robots-Tag:noindex
X-PUBLISHED-TTL:PT1H
BEGIN:VTIMEZONE
TZID:Europe/Helsinki
BEGIN:DAYLIGHT
TZOFFSETFROM:+0200
TZOFFSETTO:+0300
TZNAME:EEST
DTSTART:20250330T010000
END:DAYLIGHT
BEGIN:STANDARD
TZOFFSETFROM:+0300
TZOFFSETTO:+0200
TZNAME:EET
DTSTART:20251026T010000
END:STANDARD
BEGIN:DAYLIGHT
TZOFFSETFROM:+0200
TZOFFSETTO:+0300
TZNAME:EEST
DTSTART:20260329T010000
END:DAYLIGHT
BEGIN:STANDARD
TZOFFSETFROM:+0300
TZOFFSETTO:+0200
TZNAME:EET
DTSTART:20261025T010000
END:STANDARD
BEGIN:DAYLIGHT
TZOFFSETFROM:+0200
TZOFFSETTO:+0300
TZNAME:EEST
DTSTART:20270328T010000
END:DAYLIGHT
BEGIN:STANDARD
TZOFFSETFROM:+0300
TZOFFSETTO:+0200
TZNAME:EET
DTSTART:20271031T010000
END:STANDARD
END:VTIMEZONE
BEGIN:VEVENT
DTSTART;TZID=Europe/Helsinki:20260426T100000
DTEND;TZID=Europe/Helsinki:20260426T113000
DTSTAMP:20260424T082840
CREATED:20260316T191417Z
LAST-MODIFIED:20260322T213441Z
UID:2003-1777197600-1777203000@www.miriam-kahle.de
SUMMARY:WaldFitness
DESCRIPTION:Lass dich von mir durch ein individuelles Workout führen\, dass dich stark\, fit und selbstbewusst macht! \nFalls du das erste Mal dabei sein solltest\, fülle bitte den Anamnesebogen aus und schicke ihn mir 48 Std. vor Beginn deines Termins! Somit kann ich besser auf deine Bedürfnisse eingehen. \nDownload Anamnesebogen \nBuche jetzt deinen Termin ! \n————————————– \nDas Training findet am Trimm-Dich-Pfad im Klecker Wald an der Bendestorfer Str. statt. \nDu kannst deinen Termin bis 18 Uhr am Vorabend buchen & bis zu 24 Std. vor dem Termin stornieren (du erhältst dein Geld abzgl. der Paypal Gebühr von 1\,08€ zurück). Danach ist keine Buchung mehr möglich und es fallen 100% der Gebühren an. \nDie Mindestteilnehmeranzahl liegt bei 5 Personen! Bei weniger Anmeldungen\, bekommst du eine Benachrichtigung und dein Geld erstattet oder kannst dir eine neue Veranstaltung aussuchen.
URL:https://www.miriam-kahle.de/event/waldfitness-4/
LOCATION:Trimm-Dich-Pfad\, Bendestorfer Str. \, Buchholz in der Nordheide\, Buchholz in der Nordheide\, Niedersachsen\, 21244\, Deutschland
CATEGORIES:WaldFitness
ORGANIZER;CN="Miriam Kahle":MAILTO:coaching@miriam-kahle.de
END:VEVENT
END:VCALENDAR